BEGIN:VCALENDAR
VERSION:2.0
PRODID:-//MND - ECPv6.0.3.1//NONSGML v1.0//EN
CALSCALE:GREGORIAN
METHOD:PUBLISH
X-WR-CALNAME:MND
X-ORIGINAL-URL:https://mnd.is
X-WR-CALDESC:Events for MND
REFRESH-INTERVAL;VALUE=DURATION:PT1H
X-Robots-Tag:noindex
X-PUBLISHED-TTL:PT1H
BEGIN:VTIMEZONE
TZID:UTC
BEGIN:STANDARD
TZOFFSETFROM:+0000
TZOFFSETTO:+0000
TZNAME:UTC
DTSTART:20240101T000000
END:STANDARD
END:VTIMEZONE
BEGIN:VEVENT
DTSTART;TZID=UTC:20240912T170000
DTEND;TZID=UTC:20240912T180000
DTSTAMP:20260424T115000
CREATED:20240904T200345Z
LAST-MODIFIED:20240904T200345Z
UID:10000031-1726160400-1726164000@mnd.is
SUMMARY:Félagsfundur MND á Íslandi
DESCRIPTION:Mánaðarlegi fundurinn okkar. \nSpjall og léttar veitingar. \nJafningjarnir eru besta fræðslan. \nFjölmennum! \n  \n 
URL:https://mnd.is/vidburdir/felagsfundur-mnd-a-islandi-8/
LOCATION:Mannréttindahúsið\, Sigtún 42\, Reykjavík\, 105\, Iceland
ATTACH;FMTTYPE=image/png:https://mnd.is/wp-content/uploads/2022/09/mnd-logo.png
END:VEVENT
END:VCALENDAR