BEGIN:VCALENDAR
VERSION:2.0
PRODID:-//MND - ECPv6.0.3.1//NONSGML v1.0//EN
CALSCALE:GREGORIAN
METHOD:PUBLISH
X-WR-CALNAME:MND
X-ORIGINAL-URL:https://mnd.is
X-WR-CALDESC:Events for MND
REFRESH-INTERVAL;VALUE=DURATION:PT1H
X-Robots-Tag:noindex
X-PUBLISHED-TTL:PT1H
BEGIN:VTIMEZONE
TZID:UTC
BEGIN:STANDARD
TZOFFSETFROM:+0000
TZOFFSETTO:+0000
TZNAME:UTC
DTSTART:20240101T000000
END:STANDARD
END:VTIMEZONE
BEGIN:VEVENT
DTSTART;TZID=UTC:20241216T180000
DTEND;TZID=UTC:20241216T190000
DTSTAMP:20260424T163459
CREATED:20241015T124105Z
LAST-MODIFIED:20241215T155827Z
UID:10000037-1734372000-1734375600@mnd.is
SUMMARY:Fellur niður - Aðstandendafundur
DESCRIPTION:Íris Eik Ólafsdóttir\, félagsráðgjafi og fjölskyldufræðingur sér um aðstandendafundi. \nMarkmið fundanna er að veita aðstandendum skýrari sýn á þá flóknu stöðu sem fylgir því að eiga einhvern að sem glímir við MND sjúkdóminn. Farið er í það hjálparleysi sem algengt er að aðstandendur upplifa samhliða veikindum. Kenndar eru hjálplegar leiðir til stuðnings og bjargráð fyrir aðstandendur. \nÞað að taka þátt í hópi sem þessum gefur aðstandendum tækifæri til þess að ræða stöðu sína við jafningja samhliða því að fá fræðslu og stuðning fagfólks.
URL:https://mnd.is/vidburdir/adstandendafundur-11/
LOCATION:Mannréttindahúsið\, Sigtún 42\, Reykjavík\, 105\, Iceland
ATTACH;FMTTYPE=image/png:https://mnd.is/wp-content/uploads/2022/10/standard_image.png
END:VEVENT
END:VCALENDAR