BEGIN:VCALENDAR
VERSION:2.0
PRODID:-//MND - ECPv6.0.3.1//NONSGML v1.0//EN
CALSCALE:GREGORIAN
METHOD:PUBLISH
X-ORIGINAL-URL:https://mnd.is
X-WR-CALDESC:Events for MND
REFRESH-INTERVAL;VALUE=DURATION:PT1H
X-Robots-Tag:noindex
X-PUBLISHED-TTL:PT1H
BEGIN:VTIMEZONE
TZID:UTC
BEGIN:STANDARD
TZOFFSETFROM:+0000
TZOFFSETTO:+0000
TZNAME:UTC
DTSTART:20250101T000000
END:STANDARD
END:VTIMEZONE
BEGIN:VEVENT
DTSTART;TZID=UTC:20250310T180000
DTEND;TZID=UTC:20250310T190000
DTSTAMP:20260424T214910
CREATED:20250226T094927Z
LAST-MODIFIED:20250226T095014Z
UID:10000039-1741629600-1741633200@mnd.is
SUMMARY:Aðstandendafundur
DESCRIPTION:Helena Unnarsdóttir félagsráðgjafi sér um fundina og verður hún á þessum fundi með stutt erindi  \,\,Fjölskyldan og langvinnir sjúkdómar” og svo eru umræður í kjölfarið.  \nUm Helenu:  \nHelena útskrifaðist úr félagsráðgjöf frá Háskóla Íslands vorið 2004 og lauk MSW í félagsráðgjöf frá sama skóla árið 2010. Hún hefur  frá árinu 2004  starfað við félagsþjónustu og barnavernd sveitarfélaga. Frá 2011-2024 starfaði hún  hjá Fjölskyldu- og barnamálasviði Hafnarfjarðar\, þar af sem deildarstjóri barnaverndar síðustu 5 árin.  Hún útskrifaðist sem PMTO meðferðaraðili haustið 2015 og hefur sinnt foreldraráðgjöf\,námskeiðum og handleiðslu á því sviði undanfarin ár meðfram vinnu. \nFrá sl.  hausti hefur hún starfað sjálfstætt að félagsráðgjöf\, námskeiðahaldi og handleiðslu\, m.a. í gegnum Samskiptastöðina og Reykjavíkurborg. Hún er  einn dag í viku með ráðgjöf hjá MS félagi Íslands fyrir fólk með MS og aðstandendur þeirra\, og heldur utan um stuðningshópa fyrir nýgreinda og aðstandendur. \nMarkmið fundanna er að veita aðstandendum skýrari sýn á þá flóknu stöðu sem fylgir því að eiga einhvern að sem glímir við MND sjúkdóminn. Farið er í það hjálparleysi sem algengt er að aðstandendur upplifa samhliða veikindum. Kenndar eru hjálplegar leiðir til stuðnings og bjargráð fyrir aðstandendur.
URL:https://mnd.is/vidburdir/adstandendafundur-12/
LOCATION:Mannréttindahúsið\, Sigtún 42\, Reykjavík\, 105\, Iceland
ATTACH;FMTTYPE=image/png:https://mnd.is/wp-content/uploads/2022/10/standard_image.png
END:VEVENT
END:VCALENDAR