BEGIN:VCALENDAR
VERSION:2.0
PRODID:-//MND - ECPv6.0.3.1//NONSGML v1.0//EN
CALSCALE:GREGORIAN
METHOD:PUBLISH
X-WR-CALNAME:MND
X-ORIGINAL-URL:https://mnd.is
X-WR-CALDESC:Events for MND
REFRESH-INTERVAL;VALUE=DURATION:PT1H
X-Robots-Tag:noindex
X-PUBLISHED-TTL:PT1H
BEGIN:VTIMEZONE
TZID:UTC
BEGIN:STANDARD
TZOFFSETFROM:+0000
TZOFFSETTO:+0000
TZNAME:UTC
DTSTART:20220101T000000
END:STANDARD
END:VTIMEZONE
BEGIN:VEVENT
DTSTART;TZID=UTC:20241003T170000
DTEND;TZID=UTC:20241003T180000
DTSTAMP:20260424T164053
CREATED:20240904T200433Z
LAST-MODIFIED:20241003T093640Z
UID:10000032-1727974800-1727978400@mnd.is
SUMMARY:Fellur niður - Félagsfundur MND á Íslandi
DESCRIPTION:Mánaðarlegi fundurinn okkar. \nSpjall og léttar veitingar. \nJafningjarnir eru besta fræðslan. \nFjölmennum! \n  \n 
URL:https://mnd.is/vidburdir/felagsfundur-mnd-a-islandi-10/
LOCATION:Mannréttindahúsið\, Sigtún 42\, Reykjavík\, 105\, Iceland
ATTACH;FMTTYPE=image/png:https://mnd.is/wp-content/uploads/2022/09/mnd-logo.png
END:VEVENT
BEGIN:VEVENT
DTSTART;TZID=UTC:20240923T170000
DTEND;TZID=UTC:20240923T180000
DTSTAMP:20260424T164053
CREATED:20240918T184236Z
LAST-MODIFIED:20240918T184236Z
UID:10000034-1727110800-1727114400@mnd.is
SUMMARY:Aðstandendafundur
DESCRIPTION:Íris Eik Ólafsdóttir\, félagsráðgjafi og fjölskyldufræðingur sér um aðstandendafundi. \nMarkmið fundanna er að veita aðstandendum skýrari sýn á þá flóknu stöðu sem fylgir því að eiga einhvern að sem glímir við MND sjúkdóminn. Farið er í það hjálparleysi sem algengt er að aðstandendur upplifa samhliða veikindum. Kenndar eru hjálplegar leiðir til stuðnings og bjargráð fyrir aðstandendur. \nÞað að taka þátt í hópi sem þessum gefur aðstandendum tækifæri til þess að ræða stöðu sína við jafningja samhliða því að fá fræðslu og stuðning fagfólks.
URL:https://mnd.is/vidburdir/adstandendafundur-8/
LOCATION:Mannréttindahúsið\, Sigtún 42\, Reykjavík\, 105\, Iceland
ATTACH;FMTTYPE=image/png:https://mnd.is/wp-content/uploads/2022/10/standard_image.png
END:VEVENT
BEGIN:VEVENT
DTSTART;TZID=UTC:20240912T170000
DTEND;TZID=UTC:20240912T180000
DTSTAMP:20260424T164053
CREATED:20240904T200345Z
LAST-MODIFIED:20240904T200345Z
UID:10000031-1726160400-1726164000@mnd.is
SUMMARY:Félagsfundur MND á Íslandi
DESCRIPTION:Mánaðarlegi fundurinn okkar. \nSpjall og léttar veitingar. \nJafningjarnir eru besta fræðslan. \nFjölmennum! \n  \n 
URL:https://mnd.is/vidburdir/felagsfundur-mnd-a-islandi-8/
LOCATION:Mannréttindahúsið\, Sigtún 42\, Reykjavík\, 105\, Iceland
ATTACH;FMTTYPE=image/png:https://mnd.is/wp-content/uploads/2022/09/mnd-logo.png
END:VEVENT
BEGIN:VEVENT
DTSTART;TZID=UTC:20240621T090000
DTEND;TZID=UTC:20240621T160000
DTSTAMP:20260424T164053
CREATED:20240513T202607Z
LAST-MODIFIED:20240609T162856Z
UID:10000030-1718960400-1718985600@mnd.is
SUMMARY:Alþjóðadagur MND - Ráðstefna á Hilton Nordica.
DESCRIPTION:Ráðstefna á alþjóðadegi MND. \nFrábærir innlendir og erlendir fyrirlesarar. \nDagskrá birt fljótlega. \nHægt að skrá sig hér: \nSkráning á ráðstefnu hér. \nDagskráin
URL:https://mnd.is/vidburdir/althjodadagur-mnd-radstefna-a-hilton-nordica/
LOCATION:Hilton Nordica\, Suðurlandsbraut 2\, Reykjavík\, 105\, Iceland
ATTACH;FMTTYPE=image/png:https://mnd.is/wp-content/uploads/2022/10/standard_image.png
END:VEVENT
BEGIN:VEVENT
DTSTART;TZID=UTC:20240516T180000
DTEND;TZID=UTC:20240516T190000
DTSTAMP:20260424T164053
CREATED:20231104T170829Z
LAST-MODIFIED:20231104T170829Z
UID:10000022-1715882400-1715886000@mnd.is
SUMMARY:Aðstandendafundur
DESCRIPTION:Íris Eik Ólafsdóttir\, félagsráðgjafi og fjölskyldufræðingur sér um aðstandendafundi. \nMarkmið fundanna er að veita aðstandendum skýrari sýn á þá flóknu stöðu sem fylgir því að eiga einhvern að sem glímir við MND sjúkdóminn. Farið er í það hjálparleysi sem algengt er að aðstandendur upplifa samhliða veikindum. Kenndar eru hjálplegar leiðir til stuðnings og bjargráð fyrir aðstandendur. \nÞað að taka þátt í hópi sem þessum gefur aðstandendum tækifæri til þess að ræða stöðu sína við jafningja samhliða því að fá fræðslu og stuðning fagfólks.
URL:https://mnd.is/vidburdir/adstandendafundur-7/
LOCATION:ÖBÍ réttindahús\, Sigtún 42\, Reykjavík\, 105\, Iceland
ATTACH;FMTTYPE=image/png:https://mnd.is/wp-content/uploads/2022/09/MND_teikning_glaer_bakgrunnur.png
END:VEVENT
BEGIN:VEVENT
DTSTART;TZID=UTC:20240502T170000
DTEND;TZID=UTC:20240502T190000
DTSTAMP:20260424T164053
CREATED:20231104T214948Z
LAST-MODIFIED:20231104T214948Z
UID:10000028-1714669200-1714676400@mnd.is
SUMMARY:Félagsfundur MND á Íslandi
DESCRIPTION:Mánaðarlegi fundurinn okkar. \nSpjall og léttar veitingar. \nJafningjarnir eru besta fræðslan. \nFjölmennum! \n  \n 
URL:https://mnd.is/vidburdir/felagsfundur-mnd-a-islandi-9/
LOCATION:ÖBÍ réttindahús\, Sigtún 42\, Reykjavík\, 105\, Iceland
ATTACH;FMTTYPE=image/png:https://mnd.is/wp-content/uploads/2022/09/mnd-logo.png
END:VEVENT
BEGIN:VEVENT
DTSTART;TZID=UTC:20240417T180000
DTEND;TZID=UTC:20240417T190000
DTSTAMP:20260424T164053
CREATED:20231104T170715Z
LAST-MODIFIED:20231104T170715Z
UID:10000021-1713376800-1713380400@mnd.is
SUMMARY:Aðstandendafundur
DESCRIPTION:Íris Eik Ólafsdóttir\, félagsráðgjafi og fjölskyldufræðingur sér um aðstandendafundi. \nMarkmið fundanna er að veita aðstandendum skýrari sýn á þá flóknu stöðu sem fylgir því að eiga einhvern að sem glímir við MND sjúkdóminn. Farið er í það hjálparleysi sem algengt er að aðstandendur upplifa samhliða veikindum. Kenndar eru hjálplegar leiðir til stuðnings og bjargráð fyrir aðstandendur. \nÞað að taka þátt í hópi sem þessum gefur aðstandendum tækifæri til þess að ræða stöðu sína við jafningja samhliða því að fá fræðslu og stuðning fagfólks.
URL:https://mnd.is/vidburdir/adstandendafundur-6/
LOCATION:ÖBÍ réttindahús\, Sigtún 42\, Reykjavík\, 105\, Iceland
ATTACH;FMTTYPE=image/png:https://mnd.is/wp-content/uploads/2022/09/MND_teikning_glaer_bakgrunnur.png
END:VEVENT
BEGIN:VEVENT
DTSTART;TZID=UTC:20240406T140000
DTEND;TZID=UTC:20240406T160000
DTSTAMP:20260424T164053
CREATED:20240323T100155Z
LAST-MODIFIED:20240323T100155Z
UID:10000029-1712412000-1712419200@mnd.is
SUMMARY:Aðalfundur MND á Íslandi
DESCRIPTION:
URL:https://mnd.is/vidburdir/adalfundur-mnd-a-islandi-2/
LOCATION:Mannréttindahúsið\, Sigtún 42\, Reykjavík\, 105\, Iceland
ATTACH;FMTTYPE=image/png:https://mnd.is/wp-content/uploads/2022/10/standard_image.png
END:VEVENT
BEGIN:VEVENT
DTSTART;TZID=UTC:20240318T180000
DTEND;TZID=UTC:20240318T190000
DTSTAMP:20260424T164053
CREATED:20231104T170632Z
LAST-MODIFIED:20231104T170632Z
UID:10000020-1710784800-1710788400@mnd.is
SUMMARY:Aðstandendafundur
DESCRIPTION:Íris Eik Ólafsdóttir\, félagsráðgjafi og fjölskyldufræðingur sér um aðstandendafundi. \nMarkmið fundanna er að veita aðstandendum skýrari sýn á þá flóknu stöðu sem fylgir því að eiga einhvern að sem glímir við MND sjúkdóminn. Farið er í það hjálparleysi sem algengt er að aðstandendur upplifa samhliða veikindum. Kenndar eru hjálplegar leiðir til stuðnings og bjargráð fyrir aðstandendur. \nÞað að taka þátt í hópi sem þessum gefur aðstandendum tækifæri til þess að ræða stöðu sína við jafningja samhliða því að fá fræðslu og stuðning fagfólks.
URL:https://mnd.is/vidburdir/adstandendafundur-5/
LOCATION:ÖBÍ réttindahús\, Sigtún 42\, Reykjavík\, 105\, Iceland
ATTACH;FMTTYPE=image/png:https://mnd.is/wp-content/uploads/2022/09/MND_teikning_glaer_bakgrunnur.png
END:VEVENT
BEGIN:VEVENT
DTSTART;TZID=UTC:20240307T170000
DTEND;TZID=UTC:20240307T190000
DTSTAMP:20260424T164053
CREATED:20231104T214147Z
LAST-MODIFIED:20231104T214147Z
UID:10000026-1709830800-1709838000@mnd.is
SUMMARY:Félagsfundur MND á Íslandi
DESCRIPTION:Mánaðarlegi fundurinn okkar. \nSpjall og léttar veitingar. \nJafningjarnir eru besta fræðslan. \nFjölmennum! \n  \n 
URL:https://mnd.is/vidburdir/felagsfundur-mnd-a-islandi-7/
LOCATION:ÖBÍ réttindahús\, Sigtún 42\, Reykjavík\, 105\, Iceland
ATTACH;FMTTYPE=image/png:https://mnd.is/wp-content/uploads/2022/09/mnd-logo.png
END:VEVENT
BEGIN:VEVENT
DTSTART;TZID=UTC:20240213T180000
DTEND;TZID=UTC:20240213T190000
DTSTAMP:20260424T164053
CREATED:20231104T170552Z
LAST-MODIFIED:20231104T170552Z
UID:10000019-1707847200-1707850800@mnd.is
SUMMARY:Aðstandendafundur
DESCRIPTION:Íris Eik Ólafsdóttir\, félagsráðgjafi og fjölskyldufræðingur sér um aðstandendafundi. \nMarkmið fundanna er að veita aðstandendum skýrari sýn á þá flóknu stöðu sem fylgir því að eiga einhvern að sem glímir við MND sjúkdóminn. Farið er í það hjálparleysi sem algengt er að aðstandendur upplifa samhliða veikindum. Kenndar eru hjálplegar leiðir til stuðnings og bjargráð fyrir aðstandendur. \nÞað að taka þátt í hópi sem þessum gefur aðstandendum tækifæri til þess að ræða stöðu sína við jafningja samhliða því að fá fræðslu og stuðning fagfólks.
URL:https://mnd.is/vidburdir/adstandendafundur-4/
LOCATION:ÖBÍ réttindahús\, Sigtún 42\, Reykjavík\, 105\, Iceland
ATTACH;FMTTYPE=image/png:https://mnd.is/wp-content/uploads/2022/09/MND_teikning_glaer_bakgrunnur.png
END:VEVENT
BEGIN:VEVENT
DTSTART;TZID=UTC:20240201T170000
DTEND;TZID=UTC:20240201T190000
DTSTAMP:20260424T164053
CREATED:20231104T214103Z
LAST-MODIFIED:20240131T103542Z
UID:10000025-1706806800-1706814000@mnd.is
SUMMARY:FELLUR NIÐUR - Félagsfundur MND á Íslandi
DESCRIPTION:Mánaðarlegi fundurinn okkar. \nSpjall og léttar veitingar. \nJafningjarnir eru besta fræðslan. \nFjölmennum! \n  \n 
URL:https://mnd.is/vidburdir/felagsfundur-mnd-a-islandi-6/
LOCATION:ÖBÍ réttindahús\, Sigtún 42\, Reykjavík\, 105\, Iceland
ATTACH;FMTTYPE=image/png:https://mnd.is/wp-content/uploads/2022/09/mnd-logo.png
END:VEVENT
BEGIN:VEVENT
DTSTART;TZID=UTC:20240111T180000
DTEND;TZID=UTC:20240111T190000
DTSTAMP:20260424T164053
CREATED:20231104T170517Z
LAST-MODIFIED:20231104T170517Z
UID:10000018-1704996000-1704999600@mnd.is
SUMMARY:Aðstandendafundur
DESCRIPTION:Íris Eik Ólafsdóttir\, félagsráðgjafi og fjölskyldufræðingur sér um aðstandendafundi. \nMarkmið fundanna er að veita aðstandendum skýrari sýn á þá flóknu stöðu sem fylgir því að eiga einhvern að sem glímir við MND sjúkdóminn. Farið er í það hjálparleysi sem algengt er að aðstandendur upplifa samhliða veikindum. Kenndar eru hjálplegar leiðir til stuðnings og bjargráð fyrir aðstandendur. \nÞað að taka þátt í hópi sem þessum gefur aðstandendum tækifæri til þess að ræða stöðu sína við jafningja samhliða því að fá fræðslu og stuðning fagfólks.
URL:https://mnd.is/vidburdir/adstandendafundur-3/
LOCATION:ÖBÍ réttindahús\, Sigtún 42\, Reykjavík\, 105\, Iceland
ATTACH;FMTTYPE=image/png:https://mnd.is/wp-content/uploads/2022/09/MND_teikning_glaer_bakgrunnur.png
END:VEVENT
BEGIN:VEVENT
DTSTART;TZID=UTC:20240104T170000
DTEND;TZID=UTC:20240104T190000
DTSTAMP:20260424T164053
CREATED:20231104T212608Z
LAST-MODIFIED:20240104T115128Z
UID:10000024-1704387600-1704394800@mnd.is
SUMMARY:AFLÝST- Félagsfundur MND á Íslandi
DESCRIPTION:Mánaðarlegi fundurinn okkar. \nSpjall og léttar veitingar. \nJafningjarnir eru besta fræðslan. \nFjölmennum! \n  \n 
URL:https://mnd.is/vidburdir/felagsfundur-mnd-a-islandi-5/
LOCATION:ÖBÍ réttindahús\, Sigtún 42\, Reykjavík\, 105\, Iceland
ATTACH;FMTTYPE=image/png:https://mnd.is/wp-content/uploads/2022/09/mnd-logo.png
END:VEVENT
BEGIN:VEVENT
DTSTART;TZID=UTC:20231214T170000
DTEND;TZID=UTC:20231214T190000
DTSTAMP:20260424T164053
CREATED:20231104T212530Z
LAST-MODIFIED:20231104T212530Z
UID:10000023-1702573200-1702580400@mnd.is
SUMMARY:Félagsfundur MND á Íslandi
DESCRIPTION:Mánaðarlegi fundurinn okkar. \nSpjall og léttar veitingar. \nJafningjarnir eru besta fræðslan. \nFjölmennum! \n  \n 
URL:https://mnd.is/vidburdir/felagsfundur-mnd-a-islandi-4/
LOCATION:ÖBÍ réttindahús\, Sigtún 42\, Reykjavík\, 105\, Iceland
ATTACH;FMTTYPE=image/png:https://mnd.is/wp-content/uploads/2022/09/mnd-logo.png
END:VEVENT
BEGIN:VEVENT
DTSTART;TZID=UTC:20231213T180000
DTEND;TZID=UTC:20231213T190000
DTSTAMP:20260424T164053
CREATED:20231104T170356Z
LAST-MODIFIED:20231104T170356Z
UID:10000017-1702490400-1702494000@mnd.is
SUMMARY:Aðstandendafundur
DESCRIPTION:Íris Eik Ólafsdóttir\, félagsráðgjafi og fjölskyldufræðingur sér um aðstandendafundi. \nMarkmið fundanna er að veita aðstandendum skýrari sýn á þá flóknu stöðu sem fylgir því að eiga einhvern að sem glímir við MND sjúkdóminn. Farið er í það hjálparleysi sem algengt er að aðstandendur upplifa samhliða veikindum. Kenndar eru hjálplegar leiðir til stuðnings og bjargráð fyrir aðstandendur. \nÞað að taka þátt í hópi sem þessum gefur aðstandendum tækifæri til þess að ræða stöðu sína við jafningja samhliða því að fá fræðslu og stuðning fagfólks.
URL:https://mnd.is/vidburdir/adstandendafundur-2/
LOCATION:ÖBÍ réttindahús\, Sigtún 42\, Reykjavík\, 105\, Iceland
ATTACH;FMTTYPE=image/png:https://mnd.is/wp-content/uploads/2022/09/MND_teikning_glaer_bakgrunnur.png
END:VEVENT
BEGIN:VEVENT
DTSTART;TZID=UTC:20231108T180000
DTEND;TZID=UTC:20231108T190000
DTSTAMP:20260424T164053
CREATED:20231101T201702Z
LAST-MODIFIED:20231101T201702Z
UID:10000016-1699466400-1699470000@mnd.is
SUMMARY:Aðstandendafundur
DESCRIPTION:Íris Eik Ólafsdóttir\, félagsráðgjafi og fjölskyldufræðingur sér um aðstandendafundi. \nMarkmið fundanna er að veita aðstandendum skýrari sýn á þá flóknu stöðu sem fylgir því að eiga einhvern að sem glímir við MND sjúkdóminn. Farið er í það hjálparleysi sem algengt er að aðstandendur upplifa samhliða veikindum. Kenndar eru hjálplegar leiðir til stuðnings og bjargráð fyrir aðstandendur. \nÞað að taka þátt í hópi sem þessum gefur aðstandendum tækifæri til þess að ræða stöðu sína við jafningja samhliða því að fá fræðslu og stuðning fagfólks.
URL:https://mnd.is/vidburdir/adstandendafundur/
LOCATION:ÖBÍ réttindahús\, Sigtún 42\, Reykjavík\, 105\, Iceland
ATTACH;FMTTYPE=image/png:https://mnd.is/wp-content/uploads/2022/09/MND_teikning_glaer_bakgrunnur.png
END:VEVENT
BEGIN:VEVENT
DTSTART;TZID=UTC:20231102T170000
DTEND;TZID=UTC:20231102T190000
DTSTAMP:20260424T164053
CREATED:20231029T202232Z
LAST-MODIFIED:20231029T202232Z
UID:10000014-1698944400-1698951600@mnd.is
SUMMARY:Félagsfundur MND á Íslandi
DESCRIPTION:Mánaðarlegi fundurinn okkar. \nSpjall og léttar veitingar. \nJafningjarnir eru besta fræðslan. \nFjölmennum! \n  \n 
URL:https://mnd.is/vidburdir/felagsfundur-mnd-a-islandi-3/
LOCATION:ÖBÍ réttindahús\, Sigtún 42\, Reykjavík\, 105\, Iceland
ATTACH;FMTTYPE=image/png:https://mnd.is/wp-content/uploads/2022/09/mnd-logo.png
END:VEVENT
BEGIN:VEVENT
DTSTART;TZID=UTC:20231005T170000
DTEND;TZID=UTC:20231005T190000
DTSTAMP:20260424T164053
CREATED:20230924T165921Z
LAST-MODIFIED:20230924T165921Z
UID:10000013-1696525200-1696532400@mnd.is
SUMMARY:Félagsfundur 5.okóber 2023
DESCRIPTION:Okkar mánaðarlegi fundur. \nRósa María Hjörvar og Alma Ýr Ingólfsdóttir\, frambjóðendur til formanns ÖBÍ\, koma og ræða málin við okkur. \nLéttar veitingar.
URL:https://mnd.is/vidburdir/felagsfundur-5-okober-2023/
ATTACH;FMTTYPE=image/jpeg:https://mnd.is/wp-content/uploads/2022/09/cropped-profilemynd_facebook.jpg
END:VEVENT
BEGIN:VEVENT
DTSTART;TZID=UTC:20230918T200000
DTEND;TZID=UTC:20230918T213000
DTSTAMP:20260424T164053
CREATED:20230915T213840Z
LAST-MODIFIED:20230915T213840Z
UID:10000012-1695067200-1695072600@mnd.is
SUMMARY:Fundur fyrir aðstandendur
DESCRIPTION:Fundur fyrir aðstandendur fólks með MND. \nVið hittumst til þess að spjalla í rólegu umhverfi við fólk í svipaðri stöðu. \n 
URL:https://mnd.is/vidburdir/fundur-fyrir-adstandendur/
LOCATION:ÖBÍ réttindahús\, Sigtún 42\, Reykjavík\, 105\, Iceland
ATTACH;FMTTYPE=image/jpeg:https://mnd.is/wp-content/uploads/2023/09/adstandendur.jpg
END:VEVENT
BEGIN:VEVENT
DTSTART;TZID=UTC:20230907T170000
DTEND;TZID=UTC:20230907T190000
DTSTAMP:20260424T164053
CREATED:20230831T004900Z
LAST-MODIFIED:20230831T004900Z
UID:10000011-1694106000-1694113200@mnd.is
SUMMARY:Félagsfundur MND á Íslandi
DESCRIPTION:Fyrsti mánaðarlegi fundurinn okkar eftir sumarfrí. \nSpjall og léttar veitingar. \nJafningjarnir eru besta fræðslan! \nFjölmennum! \n  \n 
URL:https://mnd.is/vidburdir/felagsfundur-mnd-a-islandi-2/
LOCATION:ÖBÍ réttindahús\, Sigtún 42\, Reykjavík\, 105\, Iceland
ATTACH;FMTTYPE=image/png:https://mnd.is/wp-content/uploads/2022/09/mnd-logo.png
END:VEVENT
BEGIN:VEVENT
DTSTART;TZID=UTC:20230621T150000
DTEND;TZID=UTC:20230621T170000
DTSTAMP:20260424T164053
CREATED:20230608T231956Z
LAST-MODIFIED:20230608T231956Z
UID:10000010-1687359600-1687366800@mnd.is
SUMMARY:Alþjóðlegur dagur MND félaga
DESCRIPTION:Hittumst og eigum góða stund saman. \nVið ætlum að kynna glænýjan fræðslu – og matreiðslubækling. Höfundar munu vera á staðnum og gefa gestum að smakka bragðgóða maukaða rétti. \n  \n 
URL:https://mnd.is/vidburdir/althjodlegur-dagur-mnd-felaga/
LOCATION:ÖBÍ réttindahús\, Sigtún 42\, Reykjavík\, 105\, Iceland
ATTACH;FMTTYPE=image/png:https://mnd.is/wp-content/uploads/2022/10/standard_image.png
END:VEVENT
BEGIN:VEVENT
DTSTART;TZID=UTC:20230504T170000
DTEND;TZID=UTC:20230504T190000
DTSTAMP:20260424T164053
CREATED:20230501T180405Z
LAST-MODIFIED:20230501T180405Z
UID:10000009-1683219600-1683226800@mnd.is
SUMMARY:Félagsfundur
DESCRIPTION:Mánaðarlegi félagsfundurinn okkar verður þann 4.maí. \nÖll velkomin! \nSjáumst!
URL:https://mnd.is/vidburdir/felagsfundur/
LOCATION:ÖBÍ réttindahús\, Sigtún 42\, Reykjavík\, 105\, Iceland
ATTACH;FMTTYPE=image/png:https://mnd.is/wp-content/uploads/2022/10/standard_image.png
END:VEVENT
BEGIN:VEVENT
DTSTART;TZID=UTC:20230415T140000
DTEND;TZID=UTC:20230415T160000
DTSTAMP:20260424T164053
CREATED:20230312T130811Z
LAST-MODIFIED:20230404T130426Z
UID:10000007-1681567200-1681574400@mnd.is
SUMMARY:Aðalfundur MND á Íslandi
DESCRIPTION:Aðalfundur MND á Íslandi verður þann 15.apríl frá kl: 14-16. \nÞar verða venjuleg aðalfundarstörf en með uppfærslu á lögum til að geta talist almannaheilla félag. \nLéttar veitingar í boði. \nFundarboð og dagskrá
URL:https://mnd.is/vidburdir/adalfundur-mnd-a-islandi/
LOCATION:ÖBÍ réttindahús\, Sigtún 42\, Reykjavík\, 105\, Iceland
ATTACH;FMTTYPE=image/jpeg:https://mnd.is/wp-content/uploads/2022/08/mnd_vefur-mynd.jpg
END:VEVENT
BEGIN:VEVENT
DTSTART;TZID=UTC:20230411T200000
DTEND;TZID=UTC:20230411T220000
DTSTAMP:20260424T164053
CREATED:20230331T142116Z
LAST-MODIFIED:20230331T142116Z
UID:10000008-1681243200-1681250400@mnd.is
SUMMARY:Fundur fyrir aðstandendur þann 11.apríl kl. 20:00
DESCRIPTION:Öll velkomin! \nMND er ekki bara einangrandi fyrir þá sem eru með sjúkdóminn heldur líka aðstandendur þeirra. Það er mjög gott að geta hitt aðra í sömu stöðu\, þegið og gefið ráð. \n  \n 
URL:https://mnd.is/vidburdir/fundur-fyrir-adstandendur-thann-11-april-kl-2000/
LOCATION:ÖBÍ réttindahús\, Sigtún 42\, Reykjavík\, 105\, Iceland
ATTACH;FMTTYPE=image/png:https://mnd.is/wp-content/uploads/2022/10/standard_image.png
END:VEVENT
BEGIN:VEVENT
DTSTART;TZID=UTC:20230309T170000
DTEND;TZID=UTC:20230309T190000
DTSTAMP:20260424T164053
CREATED:20230214T154502Z
LAST-MODIFIED:20230223T143455Z
UID:10000006-1678381200-1678388400@mnd.is
SUMMARY:Félagsfundur MND á Íslandi
DESCRIPTION:Mánaðarlegi fundurinn okkar. \nVið spjöllum um allt og ekkert. \nStjórnarfólk gefur skýrslu um starf undanfarinna vikna. \n  \n 
URL:https://mnd.is/vidburdir/felagsfundur-mnd-a-islandi/
LOCATION:ÖBÍ réttindahús\, Sigtún 42\, Reykjavík\, 105\, Iceland
ATTACH;FMTTYPE=image/png:https://mnd.is/wp-content/uploads/2022/10/standard_image.png
END:VEVENT
BEGIN:VEVENT
DTSTART;TZID=UTC:20230220T150000
DTEND;TZID=UTC:20230220T180000
DTSTAMP:20260424T164053
CREATED:20230214T131604Z
LAST-MODIFIED:20230214T131604Z
UID:10000005-1676905200-1676916000@mnd.is
SUMMARY:MND á Íslandi 30 ára!
DESCRIPTION:30 ára afmæli MND á Íslandi. \nKökur og með því í boði. \nÖll velkomin!
URL:https://mnd.is/vidburdir/mnd-a-islandi-30-ara/
LOCATION:ÖBÍ réttindahús\, Sigtún 42\, Reykjavík\, 105\, Iceland
ATTACH;FMTTYPE=image/jpeg:https://mnd.is/wp-content/uploads/2023/02/Picture1.jpg
END:VEVENT
BEGIN:VEVENT
DTSTART;TZID=UTC:20230202T170000
DTEND;TZID=UTC:20230202T190000
DTSTAMP:20260424T164053
CREATED:20230117T210426Z
LAST-MODIFIED:20230117T210426Z
UID:10000004-1675357200-1675364400@mnd.is
SUMMARY:Félagsfundur 2.febrúar 2023
DESCRIPTION:Fundur haldinn í húsi ÖBÍ\, sama heimilisfang og hefur alltaf verið. \nEinnig verður hægt að vera á fundinum í gegnum TEAMS. Hlekkir til að tengjast fundi koma þegar nær dregur. \nDagskrá fundarins: \n\nGísli Jónasson segir okkur frá ráðstefnu um MND sem hann sótti í San Diego\, USA.\nWanda Gregory segir okkur frá notkun sýndarveruleika sem meðferðaúrræði.\n\nHlökkum til að sjá ykkur öll. \nATH: Nú er hægt að skrá sig á fundina og er það gert hér að neðan. Hvetjum við öll til að gera það til að við vitum fjölda.
URL:https://mnd.is/vidburdir/felagsfundur-2-februar-2023/
LOCATION:ÖBÍ réttindahús\, Sigtún 42\, Reykjavík\, 105\, Iceland
ATTACH;FMTTYPE=image/png:https://mnd.is/wp-content/uploads/2022/10/standard_image.png
END:VEVENT
BEGIN:VEVENT
DTSTART;TZID=UTC:20230112T170000
DTEND;TZID=UTC:20230112T190000
DTSTAMP:20260424T164054
CREATED:20230104T135512Z
LAST-MODIFIED:20230112T144028Z
UID:10000003-1673542800-1673550000@mnd.is
SUMMARY:ATH. Frestað til 2.febrúar! Félagsfundur 12.janúar 2023 kl. 17:00
DESCRIPTION:Fyrsti fundur ársins verður í húsi ÖBÍ\, sama heimilisfang og hefur alltaf verið en gengið inn hjá inngangi merktum ÖBÍ. \nEinnig verður hægt að vera á fundinum í gegnum TEAMS með því að smella á hlekkina hér að neðan: \nTengill á Teams fyrir þá sem eru ekki með Teams uppsett \nFundarkenni (Meeting ID): 392 309 917 117 \nAðgangskóði (Meeting passcode): 5SzCU6 \nBeinn tengill á TEAMS fyrir þá sem eru með það uppsett. \nDagskrá fundarins: \n\nGísli Jónasson segir okkur frá ráðstefnu um MND sem hann sótti í USA.\nWanda Gregory segir okkur frá notkun sýndarveruleika sem meðferðarúrræði.\n\nHlökkum til að sjá ykkur öll! \nEndilega skráið ykkur hér að neðan svo við vitum ca fjölda.
URL:https://mnd.is/vidburdir/felagsfundur-12-januar-2023-kl-1700/
LOCATION:ÖBÍ réttindahús\, Sigtún 42\, Reykjavík\, 105\, Iceland
ATTACH;FMTTYPE=image/png:https://mnd.is/wp-content/uploads/2022/10/standard_image.png
END:VEVENT
BEGIN:VEVENT
DTSTART;TZID=UTC:20221103T170000
DTEND;TZID=UTC:20221103T190000
DTSTAMP:20260424T164054
CREATED:20221019T141749Z
LAST-MODIFIED:20221019T141749Z
UID:10000002-1667494800-1667502000@mnd.is
SUMMARY:Félagsfundur 3. nóvember
DESCRIPTION:Okkar mánaðarlegi félagsfundur verður 3. nóvember. Spjall\, fræðsla og léttar veitingar. Mætum öll.
URL:https://mnd.is/vidburdir/felagsfundur-3-november/
LOCATION:ÖBÍ réttindahús\, Sigtún 42\, Reykjavík\, 105\, Iceland
ATTACH;FMTTYPE=image/png:https://mnd.is/wp-content/uploads/2022/10/standard_image.png
END:VEVENT
END:VCALENDAR