BEGIN:VCALENDAR
VERSION:2.0
PRODID:-//MND - ECPv6.0.3.1//NONSGML v1.0//EN
CALSCALE:GREGORIAN
METHOD:PUBLISH
X-ORIGINAL-URL:https://mnd.is
X-WR-CALDESC:Events for MND
REFRESH-INTERVAL;VALUE=DURATION:PT1H
X-Robots-Tag:noindex
X-PUBLISHED-TTL:PT1H
BEGIN:VTIMEZONE
TZID:UTC
BEGIN:STANDARD
TZOFFSETFROM:+0000
TZOFFSETTO:+0000
TZNAME:UTC
DTSTART:20230101T000000
END:STANDARD
END:VTIMEZONE
BEGIN:VEVENT
DTSTART;TZID=UTC:20230411T200000
DTEND;TZID=UTC:20230411T220000
DTSTAMP:20260425T142153
CREATED:20230331T142116Z
LAST-MODIFIED:20230331T142116Z
UID:10000008-1681243200-1681250400@mnd.is
SUMMARY:Fundur fyrir aðstandendur þann 11.apríl kl. 20:00
DESCRIPTION:Öll velkomin! \nMND er ekki bara einangrandi fyrir þá sem eru með sjúkdóminn heldur líka aðstandendur þeirra. Það er mjög gott að geta hitt aðra í sömu stöðu\, þegið og gefið ráð. \n  \n 
URL:https://mnd.is/vidburdir/fundur-fyrir-adstandendur-thann-11-april-kl-2000/
LOCATION:ÖBÍ réttindahús\, Sigtún 42\, Reykjavík\, 105\, Iceland
ATTACH;FMTTYPE=image/png:https://mnd.is/wp-content/uploads/2022/10/standard_image.png
END:VEVENT
BEGIN:VEVENT
DTSTART;TZID=UTC:20230415T140000
DTEND;TZID=UTC:20230415T160000
DTSTAMP:20260425T142153
CREATED:20230312T130811Z
LAST-MODIFIED:20230404T130426Z
UID:10000007-1681567200-1681574400@mnd.is
SUMMARY:Aðalfundur MND á Íslandi
DESCRIPTION:Aðalfundur MND á Íslandi verður þann 15.apríl frá kl: 14-16. \nÞar verða venjuleg aðalfundarstörf en með uppfærslu á lögum til að geta talist almannaheilla félag. \nLéttar veitingar í boði. \nFundarboð og dagskrá
URL:https://mnd.is/vidburdir/adalfundur-mnd-a-islandi/
LOCATION:ÖBÍ réttindahús\, Sigtún 42\, Reykjavík\, 105\, Iceland
ATTACH;FMTTYPE=image/jpeg:https://mnd.is/wp-content/uploads/2022/08/mnd_vefur-mynd.jpg
END:VEVENT
END:VCALENDAR