BEGIN:VCALENDAR
VERSION:2.0
PRODID:-//MND - ECPv6.0.3.1//NONSGML v1.0//EN
CALSCALE:GREGORIAN
METHOD:PUBLISH
X-ORIGINAL-URL:https://mnd.is
X-WR-CALDESC:Events for MND
REFRESH-INTERVAL;VALUE=DURATION:PT1H
X-Robots-Tag:noindex
X-PUBLISHED-TTL:PT1H
BEGIN:VTIMEZONE
TZID:UTC
BEGIN:STANDARD
TZOFFSETFROM:+0000
TZOFFSETTO:+0000
TZNAME:UTC
DTSTART:20250101T000000
END:STANDARD
END:VTIMEZONE
BEGIN:VEVENT
DTSTART;TZID=UTC:20250612T180000
DTEND;TZID=UTC:20250612T190000
DTSTAMP:20260425T105829
CREATED:20250602T122844Z
LAST-MODIFIED:20250602T122844Z
UID:10000044-1749751200-1749754800@mnd.is
SUMMARY:Aðstandendafundur
DESCRIPTION:Helena Unnarsdóttir félagsráðgjafi sér um fundina. \nUm Helenu:  \nHelena útskrifaðist úr félagsráðgjöf frá Háskóla Íslands vorið 2004 og lauk MSW í félagsráðgjöf frá sama skóla árið 2010. Hún hefur  frá árinu 2004  starfað við félagsþjónustu og barnavernd sveitarfélaga. Frá 2011-2024 starfaði hún  hjá Fjölskyldu- og barnamálasviði Hafnarfjarðar\, þar af sem deildarstjóri barnaverndar síðustu 5 árin.  Hún útskrifaðist sem PMTO meðferðaraðili haustið 2015 og hefur sinnt foreldraráðgjöf\,námskeiðum og handleiðslu á því sviði undanfarin ár meðfram vinnu. \nFrá sl.  hausti hefur hún starfað sjálfstætt að félagsráðgjöf\, námskeiðahaldi og handleiðslu\, m.a. í gegnum Samskiptastöðina og Reykjavíkurborg. Hún er  einn dag í viku með ráðgjöf hjá MS félagi Íslands fyrir fólk með MS og aðstandendur þeirra\, og heldur utan um stuðningshópa fyrir nýgreinda og aðstandendur. \nMarkmið fundanna er að veita aðstandendum skýrari sýn á þá flóknu stöðu sem fylgir því að eiga einhvern að sem glímir við MND sjúkdóminn. Farið er í það hjálparleysi sem algengt er að aðstandendur upplifa samhliða veikindum. Kenndar eru hjálplegar leiðir til stuðnings og bjargráð fyrir aðstandendur.
URL:https://mnd.is/vidburdir/adstandendafundur-14/
LOCATION:Mannréttindahúsið\, Sigtún 42\, Reykjavík\, 105\, Iceland
ATTACH;FMTTYPE=image/png:https://mnd.is/wp-content/uploads/2022/10/standard_image.png
END:VEVENT
BEGIN:VEVENT
DTSTART;TZID=UTC:20250621T140000
DTEND;TZID=UTC:20250621T160000
DTSTAMP:20260425T105829
CREATED:20250602T123238Z
LAST-MODIFIED:20250618T130557Z
UID:10000045-1750514400-1750521600@mnd.is
SUMMARY:Alþjóðadagur MND - opið hús
DESCRIPTION:Hittumst í góðu tómi. Skoðum aðstöðuna okkar til funda og skrifstofuna.\n\nNjótum samveru og tökum létt spjall.\n\nVeitingar í boði \n\nKlukkan 14:30 ætlar Jóhann Hauksson sérnámslæknir í taugalækningum að segja okkur frá rannsókn á faraldsfræði MND á Íslandi sem hann vinnur að um þessar mundir.
URL:https://mnd.is/vidburdir/althjodadagur-mnd-opid-hus/
LOCATION:Mannréttindahúsið\, Sigtún 42\, Reykjavík\, 105\, Iceland
ATTACH;FMTTYPE=image/jpeg:https://mnd.is/wp-content/uploads/2022/09/cropped-profilemynd_facebook.jpg
END:VEVENT
END:VCALENDAR